BEGIN:VCALENDAR
VERSION:2.0
PRODID:-//Epicerie du Coeur de Mons - ECPv6.15.16//NONSGML v1.0//EN
CALSCALE:GREGORIAN
METHOD:PUBLISH
X-ORIGINAL-URL:https://epicerieducoeurdemons.be
X-WR-CALDESC:Évènements pour Epicerie du Coeur de Mons
REFRESH-INTERVAL;VALUE=DURATION:PT1H
X-Robots-Tag:noindex
X-PUBLISHED-TTL:PT1H
BEGIN:VTIMEZONE
TZID:Europe/Brussels
BEGIN:DAYLIGHT
TZOFFSETFROM:+0100
TZOFFSETTO:+0200
TZNAME:CEST
DTSTART:20230326T010000
END:DAYLIGHT
BEGIN:STANDARD
TZOFFSETFROM:+0200
TZOFFSETTO:+0100
TZNAME:CET
DTSTART:20231029T010000
END:STANDARD
BEGIN:DAYLIGHT
TZOFFSETFROM:+0100
TZOFFSETTO:+0200
TZNAME:CEST
DTSTART:20240331T010000
END:DAYLIGHT
BEGIN:STANDARD
TZOFFSETFROM:+0200
TZOFFSETTO:+0100
TZNAME:CET
DTSTART:20241027T010000
END:STANDARD
BEGIN:DAYLIGHT
TZOFFSETFROM:+0100
TZOFFSETTO:+0200
TZNAME:CEST
DTSTART:20250330T010000
END:DAYLIGHT
BEGIN:STANDARD
TZOFFSETFROM:+0200
TZOFFSETTO:+0100
TZNAME:CET
DTSTART:20251026T010000
END:STANDARD
END:VTIMEZONE
BEGIN:VEVENT
DTSTART;TZID=Europe/Brussels:20240421T090000
DTEND;TZID=Europe/Brussels:20240421T170000
DTSTAMP:20260422T161109
CREATED:20240409T131932Z
LAST-MODIFIED:20240409T131932Z
UID:1312-1713690000-1713718800@epicerieducoeurdemons.be
SUMMARY:Marche du Coeur - 3è édition
DESCRIPTION:Marche du Cœur – Dimanche 21 avril  \n\nSave the Date ! La 3ème édition de la Marche du Cœur est de retour \n\n\n Quand ? Dimanche 21 avril\, départ libre entre 9h et 14h.\n\nDeux circuits vous attendent de 5 à 10km pour explorer notre belle région sous un nouvel angle \n\n\n\nCette année\, nous vous réservons plein de nouveautés pour rendre cette marche encore plus inoubliable :\n\n\n Des jeux pour enfants pour une ambiance familiale et conviviale.\n Un cover band pour vous divertir !\n La présence d’artisans et créateurs locaux (entre 10h et 6h)\n\n\n\nInscriptions sur place : 5€ (gratuit pour les -12 ans) incluant 1 collation et un ticket boisson offerts. Chaque euro récolté nous aidera à la préparation de colis alimentaires \n\n\n\nMUNISSEZ-VOUS D’UNE DENRÉE NON-PÉRISSABLE pour participer à la collecte solidaire\n\n\n\nRassemblez vos amis\, votre famille\, et venez nombreux soutenir l’Epicerie du Cœur tout en passant une journée agréable et pleine de bonne humeur !\n\n\nOn vous y attend avec impatience \n\n\n\n Maison des étudiants de l’UCLouvain FUCaM Mons – 151\, chaussée de Binche\, 7000 Mons (parking accessible)\n\n\n\nPS : Les entreprises peuvent contacter l’ASBL si elles désirent mettre en place une action au bénéfice de l’Epicerie du Cœur.
URL:https://epicerieducoeurdemons.be/agenda-actualite/marche-du-coeur-3e-edition/
LOCATION:UCL Fucam\, chaussée de Binche 151\, mons\, 7000\, Belgique
END:VEVENT
END:VCALENDAR