BEGIN:VCALENDAR
VERSION:2.0
PRODID:-//Epicerie du Coeur de Mons - ECPv6.15.16//NONSGML v1.0//EN
CALSCALE:GREGORIAN
METHOD:PUBLISH
X-ORIGINAL-URL:https://epicerieducoeurdemons.be
X-WR-CALDESC:Évènements pour Epicerie du Coeur de Mons
REFRESH-INTERVAL;VALUE=DURATION:PT1H
X-Robots-Tag:noindex
X-PUBLISHED-TTL:PT1H
BEGIN:VTIMEZONE
TZID:Europe/Brussels
BEGIN:DAYLIGHT
TZOFFSETFROM:+0100
TZOFFSETTO:+0200
TZNAME:CEST
DTSTART:20240331T010000
END:DAYLIGHT
BEGIN:STANDARD
TZOFFSETFROM:+0200
TZOFFSETTO:+0100
TZNAME:CET
DTSTART:20241027T010000
END:STANDARD
BEGIN:DAYLIGHT
TZOFFSETFROM:+0100
TZOFFSETTO:+0200
TZNAME:CEST
DTSTART:20250330T010000
END:DAYLIGHT
BEGIN:STANDARD
TZOFFSETFROM:+0200
TZOFFSETTO:+0100
TZNAME:CET
DTSTART:20251026T010000
END:STANDARD
BEGIN:DAYLIGHT
TZOFFSETFROM:+0100
TZOFFSETTO:+0200
TZNAME:CEST
DTSTART:20260329T010000
END:DAYLIGHT
BEGIN:STANDARD
TZOFFSETFROM:+0200
TZOFFSETTO:+0100
TZNAME:CET
DTSTART:20261025T010000
END:STANDARD
END:VTIMEZONE
BEGIN:VEVENT
DTSTART;VALUE=DATE:20250602
DTEND;VALUE=DATE:20250607
DTSTAMP:20260421T194326
CREATED:20250416T105721Z
LAST-MODIFIED:20250416T105721Z
UID:1414-1748822400-1749254399@epicerieducoeurdemons.be
SUMMARY:Action Fête des pères
DESCRIPTION:🎁 Semaine spéciale Fête des Pères – Du 02 au 06 juin\nÀ l’occasion de la Fête des Pères\, notre association souhaite mettre à l’honneur tous les papas que nous accompagnons.Durant la semaine précédant la fête\, en complément des colis alimentaires habituels\, nous offrirons quelques produits de soin ou de confort pensés spécialement pour eux. \nUn petit geste pour dire merci à ces hommes qui jouent un rôle important dans leur famille 💙
URL:https://epicerieducoeurdemons.be/agenda-actualite/action-fete-des-peres/
END:VEVENT
END:VCALENDAR