BEGIN:VCALENDAR
VERSION:2.0
PRODID:-//Epicerie du Coeur de Mons - ECPv6.15.16//NONSGML v1.0//EN
CALSCALE:GREGORIAN
METHOD:PUBLISH
X-WR-CALNAME:Epicerie du Coeur de Mons
X-ORIGINAL-URL:https://epicerieducoeurdemons.be
X-WR-CALDESC:Évènements pour Epicerie du Coeur de Mons
REFRESH-INTERVAL;VALUE=DURATION:PT1H
X-Robots-Tag:noindex
X-PUBLISHED-TTL:PT1H
BEGIN:VTIMEZONE
TZID:Europe/Brussels
BEGIN:DAYLIGHT
TZOFFSETFROM:+0100
TZOFFSETTO:+0200
TZNAME:CEST
DTSTART:20240331T010000
END:DAYLIGHT
BEGIN:STANDARD
TZOFFSETFROM:+0200
TZOFFSETTO:+0100
TZNAME:CET
DTSTART:20241027T010000
END:STANDARD
BEGIN:DAYLIGHT
TZOFFSETFROM:+0100
TZOFFSETTO:+0200
TZNAME:CEST
DTSTART:20250330T010000
END:DAYLIGHT
BEGIN:STANDARD
TZOFFSETFROM:+0200
TZOFFSETTO:+0100
TZNAME:CET
DTSTART:20251026T010000
END:STANDARD
BEGIN:DAYLIGHT
TZOFFSETFROM:+0100
TZOFFSETTO:+0200
TZNAME:CEST
DTSTART:20260329T010000
END:DAYLIGHT
BEGIN:STANDARD
TZOFFSETFROM:+0200
TZOFFSETTO:+0100
TZNAME:CET
DTSTART:20261025T010000
END:STANDARD
END:VTIMEZONE
BEGIN:VEVENT
DTSTART;VALUE=DATE:20250518
DTEND;VALUE=DATE:20250519
DTSTAMP:20260421T211246
CREATED:20250411T124157Z
LAST-MODIFIED:20250416T105825Z
UID:1394-1747526400-1747612799@epicerieducoeurdemons.be
SUMMARY:Marche du Coeur 2025
DESCRIPTION:À vos calendriers ! La date de la 4ème édition de la Marche du Coeur est fixée ! \n\n\n\n Quand? : le dimanche 18 mai 2025\n Lieu : Départ de la maison des étudiants de l’UCLouvain FUCaM\n\n\n\nPréparez-vous pour une journée inoubliable avec :\n De l’animation musicale pour vous faire bouger\n Des jeux pour enfants pour amuser les plus jeunes\n Deux nouveaux circuits pour vous faire découvrir de nouveaux horizons\n Des artisans locaux pour découvrir les trésors de notre région\n\n\nOn vous y attend nombreux pour faire de cette journée un moment de partage et de solidarité !
URL:https://epicerieducoeurdemons.be/agenda-actualite/marche-du-coeur-2025/
LOCATION:UCL Fucam\, chaussée de Binche 151\, mons\, 7000\, Belgique
END:VEVENT
END:VCALENDAR