BEGIN:VCALENDAR
VERSION:2.0
PRODID:-//Epicerie du Coeur de Mons - ECPv6.15.16//NONSGML v1.0//EN
CALSCALE:GREGORIAN
METHOD:PUBLISH
X-WR-CALNAME:Epicerie du Coeur de Mons
X-ORIGINAL-URL:https://epicerieducoeurdemons.be
X-WR-CALDESC:Évènements pour Epicerie du Coeur de Mons
REFRESH-INTERVAL;VALUE=DURATION:PT1H
X-Robots-Tag:noindex
X-PUBLISHED-TTL:PT1H
BEGIN:VTIMEZONE
TZID:Europe/Brussels
BEGIN:DAYLIGHT
TZOFFSETFROM:+0100
TZOFFSETTO:+0200
TZNAME:CEST
DTSTART:20240331T010000
END:DAYLIGHT
BEGIN:STANDARD
TZOFFSETFROM:+0200
TZOFFSETTO:+0100
TZNAME:CET
DTSTART:20241027T010000
END:STANDARD
BEGIN:DAYLIGHT
TZOFFSETFROM:+0100
TZOFFSETTO:+0200
TZNAME:CEST
DTSTART:20250330T010000
END:DAYLIGHT
BEGIN:STANDARD
TZOFFSETFROM:+0200
TZOFFSETTO:+0100
TZNAME:CET
DTSTART:20251026T010000
END:STANDARD
BEGIN:DAYLIGHT
TZOFFSETFROM:+0100
TZOFFSETTO:+0200
TZNAME:CEST
DTSTART:20260329T010000
END:DAYLIGHT
BEGIN:STANDARD
TZOFFSETFROM:+0200
TZOFFSETTO:+0100
TZNAME:CET
DTSTART:20261025T010000
END:STANDARD
END:VTIMEZONE
BEGIN:VEVENT
DTSTART;VALUE=DATE:20250505
DTEND;VALUE=DATE:20250510
DTSTAMP:20260421T211242
CREATED:20250416T105531Z
LAST-MODIFIED:20250416T105531Z
UID:1410-1746403200-1746835199@epicerieducoeurdemons.be
SUMMARY:Action Fête des mères
DESCRIPTION:🎁 Semaine spéciale Fête des Mères – Du 05 au 09 mai\nÀ l’occasion de la Fête des Mères\, notre épicerie souhaite célébrer toutes les mamans que nous accompagnons au quotidien.Durant la semaine précédant la fête\, en plus des colis alimentaires habituels\, nous offrirons avec beaucoup de cœur quelques produits de soin et de beauté pour choyer celles qui prennent soin des autres. \nCes petits gestes ont pour but d’apporter un peu de douceur et de bien-être à nos bénéficiaires\, et de leur rappeler qu’elles sont précieuses 💐
URL:https://epicerieducoeurdemons.be/agenda-actualite/action-fete-des-meres/
END:VEVENT
END:VCALENDAR