BEGIN:VCALENDAR
VERSION:2.0
PRODID:-//Epicerie du Coeur de Mons - ECPv6.15.16//NONSGML v1.0//EN
CALSCALE:GREGORIAN
METHOD:PUBLISH
X-WR-CALNAME:Epicerie du Coeur de Mons
X-ORIGINAL-URL:https://epicerieducoeurdemons.be
X-WR-CALDESC:Évènements pour Epicerie du Coeur de Mons
REFRESH-INTERVAL;VALUE=DURATION:PT1H
X-Robots-Tag:noindex
X-PUBLISHED-TTL:PT1H
BEGIN:VTIMEZONE
TZID:Europe/Brussels
BEGIN:DAYLIGHT
TZOFFSETFROM:+0100
TZOFFSETTO:+0200
TZNAME:CEST
DTSTART:20230326T010000
END:DAYLIGHT
BEGIN:STANDARD
TZOFFSETFROM:+0200
TZOFFSETTO:+0100
TZNAME:CET
DTSTART:20231029T010000
END:STANDARD
BEGIN:DAYLIGHT
TZOFFSETFROM:+0100
TZOFFSETTO:+0200
TZNAME:CEST
DTSTART:20240331T010000
END:DAYLIGHT
BEGIN:STANDARD
TZOFFSETFROM:+0200
TZOFFSETTO:+0100
TZNAME:CET
DTSTART:20241027T010000
END:STANDARD
BEGIN:DAYLIGHT
TZOFFSETFROM:+0100
TZOFFSETTO:+0200
TZNAME:CEST
DTSTART:20250330T010000
END:DAYLIGHT
BEGIN:STANDARD
TZOFFSETFROM:+0200
TZOFFSETTO:+0100
TZNAME:CET
DTSTART:20251026T010000
END:STANDARD
END:VTIMEZONE
BEGIN:VEVENT
DTSTART;VALUE=DATE:20240715
DTEND;VALUE=DATE:20240720
DTSTAMP:20260422T130314
CREATED:20240717T142253Z
LAST-MODIFIED:20240717T142253Z
UID:1369-1721001600-1721433599@epicerieducoeurdemons.be
SUMMARY:Kits rentrée scolaire
DESCRIPTION:Grâce à la Fédération des Restos du Coeur ainsi qu’à des partenaires comme le Lions Mons Réunion et des dons divers\, nous avons pu constituer 235 kits scolaires\, pour nos enfants âgés de 3 ans à 15 ans\, qui seront distribués tout au long de la semaine.
URL:https://epicerieducoeurdemons.be/agenda-actualite/kits-rentree-scolaire/
END:VEVENT
END:VCALENDAR